BEGIN:VCALENDAR
VERSION:2.0
PRODID:-//Golden Guy - ECPv6.15.20//NONSGML v1.0//EN
CALSCALE:GREGORIAN
METHOD:PUBLISH
X-WR-CALNAME:Golden Guy
X-ORIGINAL-URL:https://goldenguyalley.com
X-WR-CALDESC:Events for Golden Guy
REFRESH-INTERVAL;VALUE=DURATION:PT1H
X-Robots-Tag:noindex
X-PUBLISHED-TTL:PT1H
BEGIN:VTIMEZONE
TZID:UTC
BEGIN:STANDARD
TZOFFSETFROM:+0000
TZOFFSETTO:+0000
TZNAME:UTC
DTSTART:20170101T000000
END:STANDARD
END:VTIMEZONE
BEGIN:VEVENT
DTSTART;VALUE=DATE:20190826
DTEND;VALUE=DATE:20190902
DTSTAMP:20260423T174303
CREATED:20190409T062410Z
LAST-MODIFIED:20190409T062410Z
UID:389-1566777600-1567382399@goldenguyalley.com
SUMMARY:Burning Man 2019: Metamorphoses
DESCRIPTION:Burning Man 2019: Metamorphoses
URL:https://goldenguyalley.com/event/burning-man-2019-metamorphoses/
LOCATION:Black Rock Desert\, 8 37th St SE\, Gerlach\, NV\, United States
END:VEVENT
BEGIN:VEVENT
DTSTART;VALUE=DATE:20190502
DTEND;VALUE=DATE:20190506
DTSTAMP:20260423T174303
CREATED:20190409T062209Z
LAST-MODIFIED:20190409T062209Z
UID:387-1556755200-1557100799@goldenguyalley.com
SUMMARY:UnScruz 2019
DESCRIPTION:Golden Guy Alley will be at UnScruz 2019 bringing out Blank Slate\, Skull Bar\, Magic Tree House and The Lemmy!
URL:https://goldenguyalley.com/event/unscruz-2019/
LOCATION:Santa Cruz County Fairgrounds
END:VEVENT
BEGIN:VEVENT
DTSTART;VALUE=DATE:20181020
DTEND;VALUE=DATE:20181022
DTSTAMP:20260423T174303
CREATED:20180810T070503Z
LAST-MODIFIED:20180810T070727Z
UID:269-1539993600-1540166399@goldenguyalley.com
SUMMARY:Decompression 2018
DESCRIPTION:Decompression 2018
URL:https://goldenguyalley.com/event/decompression-2018/
LOCATION:Potrero Power Station\, 23rd St @ Illinois\, San Francisco\, CA\, United States
END:VEVENT
BEGIN:VEVENT
DTSTART;VALUE=DATE:20180827
DTEND;VALUE=DATE:20180904
DTSTAMP:20260423T174303
CREATED:20180810T070209Z
LAST-MODIFIED:20180810T070209Z
UID:266-1535328000-1536019199@goldenguyalley.com
SUMMARY:Burning Man 2018
DESCRIPTION:Time to get back home…iRobot time.
URL:https://goldenguyalley.com/event/burning-man-2018/
LOCATION:Black Rock Desert\, 8 37th St SE\, Gerlach\, NV\, United States
END:VEVENT
BEGIN:VEVENT
DTSTART;VALUE=DATE:20180504
DTEND;VALUE=DATE:20180507
DTSTAMP:20260423T174303
CREATED:20180126T031829Z
LAST-MODIFIED:20180126T031829Z
UID:139-1525392000-1525651199@goldenguyalley.com
SUMMARY:Unscruz 2018
DESCRIPTION:Unscruz 2018\nhttps://www.unscruz.com/
URL:https://goldenguyalley.com/event/unscruz-2018/
LOCATION:Santa Cruz County Fairgrounds
END:VEVENT
END:VCALENDAR